Workbook

Sheet Anleitung
B1: Ausfüllhilfe
B2: Starten Sie mit der Eingabe im Tabellenblatt "Gebäude".
B9: Tragen Sie zunächst im Gelb hinterlegten Feld den Namen der Kirchengemeinde ein.
B10: Nutzen Sie je Gebäude ein vorgegebenes Feld.
B11: Geben Sie zunächst die Grunddaten des Gebäudes ein.
B12: ! Hinweis: Sollte das Abrechnungsobjekt mit 0 beginnen, setzen Sie davor ein ' [Shift + #]
B13: Als nächstes geben Sie die geplanten Maßnahmen für das angegebene Jahr ein.
B14: ! Sollten die vorgegebenen Zeilen nicht ausreichen, nutzen Sie für das Gebäude das nächste Feld. Beginnen Sie wieder mit den Grunddaten des Gebäudes.
B32: Die eingegebenen Daten werden automatisch in die Tebellenblätter "Zusammenführung" und "Zusammenfassung" übernommen.
B34: Bitte schicken Sie die gesamte Datei im Excel-Vormat zurück an den zuständigen Haushaltsberater.

Sheet Gebäude
A1: Planung der Instantandhaltung für die Kirchengemeinde:
A2: [Baumaßnahmen und Investitionen in und an Gebäuden > 800 €] | C2: -> Richtlinie zu § 53 FiVO Bildung der Substanzerhaltungsrücklage
A4: 1 | E4: 2 | I4: 3
A5: Gebäude | E5: Gebäude | I5: Gebäude
A6: Adresse | E6: Anschrift | I6: Anschrift
A7: Abrechnungsobjekt | E7: Abrechnungsobjekt | I7: Abrechnungsobjekt
A9: Substanzerhaltungsbedarf 2027 | B9: Geplante Kosten | C9: Zuschüsse | E9: =A9 -> Substanzerhaltungsbedarf 2027 | F9: Geplante Kosten | G9: Zuschüsse | I9: =A9 -> Substanzerhaltungsbedarf 2027 | J9: Geplante Kosten | K9: Zuschüsse
A16: Summe | B16: =SUM(B10:B15) -> 0 | C16: =SUM(C10:C15) -> 0 | E16: Summe | F16: =SUM(F10:F15) -> 0 | G16: =SUM(G10:G15) -> 0 | I16: Summe | J16: =SUM(J10:J15) -> 0 | K16: =SUM(K10:K15) -> 0
A18: 4 | E18: 5 | I18: 6
A19: Gebäude | E19: Gebäude | I19: Gebäude
A20: Anschrift | E20: Anschrift | I20: Anschrift
A21: Abrechnungsobjekt | E21: Abrechnungsobjekt | I21: Abrechnungsobjekt
A23: =A9 -> Substanzerhaltungsbedarf 2027 | B23: Geplante Kosten | C23: Zuschüsse | E23: =A9 -> Substanzerhaltungsbedarf 2027 | F23: Geplante Kosten | G23: Zuschüsse | I23: =A9 -> Substanzerhaltungsbedarf 2027 | J23: Geplante Kosten | K23: Zuschüsse
A30: Summe | B30: =SUM(B24:B29) -> 0 | C30: =SUM(C24:C29) -> 0 | E30: Summe | F30: =SUM(F24:F29) -> 0 | G30: =SUM(G24:G29) -> 0 | I30: Summe | J30: =SUM(J24:J29) -> 0 | K30: =SUM(K24:K29) -> 0
A32: 7 | E32: 8 | I32: 9
A33: Gebäude | E33: Gebäude | I33: Gebäude
A34: Adresse | E34: Anschrift | I34: Anschrift
A35: Abrechnungsobjekt | E35: Abrechnungsobjekt | I35: Abrechnungsobjekt
A37: =A9 -> Substanzerhaltungsbedarf 2027 | B37: Geplante Kosten | C37: Zuschüsse | E37: =A9 -> Substanzerhaltungsbedarf 2027 | F37: Geplante Kosten | G37: Zuschüsse | I37: =A9 -> Substanzerhaltungsbedarf 2027 | J37: Geplante Kosten | K37: Zuschüsse
A44: Summe | B44: =SUM(B38:B43) -> 0 | C44: =SUM(C38:C43) -> 0 | E44: Summe | F44: =SUM(F38:F43) -> 0 | G44: =SUM(G38:G43) -> 0 | I44: Summe | J44: =SUM(J38:J43) -> 0 | K44: =SUM(K38:K43) -> 0
A46: 10 | E46: 11 | I46: 12
A47: Gebäude | E47: Gebäude | I47: Gebäude
A48: Anschrift | E48: Anschrift | I48: Anschrift
A49: Abrechnungsobjekt | E49: Abrechnungsobjekt | I49: Abrechnungsobjekt
A51: =A9 -> Substanzerhaltungsbedarf 2027 | B51: Geplante Kosten | C51: Zuschüsse | E51: =A9 -> Substanzerhaltungsbedarf 2027 | F51: Geplante Kosten | G51: Zuschüsse | I51: =A9 -> Substanzerhaltungsbedarf 2027 | J51: Geplante Kosten | K51: Zuschüsse
A58: Summe | B58: =SUM(B52:B57) -> 0 | C58: =SUM(C52:C57) -> 0 | E58: Summe | F58: =SUM(F52:F57) -> 0 | G58: =SUM(G52:G57) -> 0 | I58: Summe | J58: =SUM(J52:J57) -> 0 | K58: =SUM(K52:K57) -> 0
A60: 13 | E60: 14 | I60: 15
A61: Gebäude | E61: Gebäude | I61: Gebäude
A62: Adresse | E62: Anschrift | I62: Anschrift
A63: Abrechnungsobjekt | E63: Abrechnungsobjekt | I63: Abrechnungsobjekt
A65: =A9 -> Substanzerhaltungsbedarf 2027 | B65: Geplante Kosten | C65: Zuschüsse | E65: =A9 -> Substanzerhaltungsbedarf 2027 | F65: Geplante Kosten | G65: Zuschüsse | I65: =A9 -> Substanzerhaltungsbedarf 2027 | J65: Geplante Kosten | K65: Zuschüsse
A72: Summe | B72: =SUM(B66:B71) -> 0 | C72: =SUM(C66:C71) -> 0 | E72: Summe | F72: =SUM(F66:F71) -> 0 | G72: =SUM(G66:G71) -> 0 | I72: Summe | J72: =SUM(J66:J71) -> 0 | K72: =SUM(K66:K71) -> 0
A74: 16 | E74: 17 | I74: 18
A75: Gebäude | E75: Gebäude | I75: Gebäude
A76: Anschrift | E76: Anschrift | I76: Anschrift
A77: Abrechnungsobjekt | E77: Abrechnungsobjekt | I77: Abrechnungsobjekt
A79: =A9 -> Substanzerhaltungsbedarf 2027 | B79: Geplante Kosten | C79: Zuschüsse | E79: =A9 -> Substanzerhaltungsbedarf 2027 | F79: Geplante Kosten | G79: Zuschüsse | I79: =A9 -> Substanzerhaltungsbedarf 2027 | J79: Geplante Kosten | K79: Zuschüsse
A86: Summe | B86: =SUM(B80:B85) -> 0 | C86: =SUM(C80:C85) -> 0 | E86: Summe | F86: =SUM(F80:F85) -> 0 | G86: =SUM(G80:G85) -> 0 | I86: Summe | J86: =SUM(J80:J85) -> 0 | K86: =SUM(K80:K85) -> 0
A88: 19 | E88: 20
A89: Gebäude | E89: Gebäude
...

Sheet Zusammenführung
A1: =Gebäude!D1 -> 0
B2: Baumaßnahmen und Investitionen in und an Gebäuden > 800 €
A4: Lfd. Nr. | B4: Gebäude | C4: Abr.obj. | D4: Maßnahme | E4: Betrag | F4: Zuschüssen von Dritten
A5: 1. | B5: =Gebäude!B5&", "&Gebäude!B6 -> , | C5: =Gebäude!B7 -> 0 | D5: =Gebäude!A10&" "&Gebäude!A11&" "&Gebäude!A12&" "&Gebäude!A13&" "&Gebäude!A14&" "&Gebäude!A15 | E5: =Gebäude!B10&" € "&Gebäude!B11&" € "&Gebäude!B12&" € "&Gebäude!B13&" € "&Gebäude!B14&" € "&Gebäude!B15&" €" -> € € € € € € | F5: =Gebäude!C10&" € "&Gebäude!C11&" € "&Gebäude!C12&" € "&Gebäude!C13&" € "&Gebäude!C14&" € "&Gebäude!C15&" €" -> € € € € € €
A6: 2. | B6: =Gebäude!F5&", "&Gebäude!F6 -> , | C6: =Gebäude!F7 -> 0 | D6: =Gebäude!E10&" "&Gebäude!E11&" "&Gebäude!E12&" "&Gebäude!E13&" "&Gebäude!E14&" "&Gebäude!E15 | E6: =Gebäude!F10&" € "&Gebäude!F11&" € "&Gebäude!F12&" € "&Gebäude!F13&" € "&Gebäude!F14&" € "&Gebäude!F15&" €" -> € € € € € € | F6: =Gebäude!G10&" € "&Gebäude!G11&" € "&Gebäude!G12&" € "&Gebäude!G13&" € "&Gebäude!G14&" € "&Gebäude!G15&" €" -> € € € € € €
A7: 3. | B7: =Gebäude!J5&", "&Gebäude!J6 -> , | C7: =Gebäude!J7 -> 0 | D7: =Gebäude!I10&" "&Gebäude!I11&" "&Gebäude!I12&" "&Gebäude!I13&" "&Gebäude!I14&" "&Gebäude!I15 | E7: =Gebäude!J10&" € "&Gebäude!J11&" € "&Gebäude!J12&" € "&Gebäude!J13&" € "&Gebäude!J14&" € "&Gebäude!J15&" €" -> € € € € € € | F7: =Gebäude!K10&" € "&Gebäude!K11&" € "&Gebäude!K12&" € "&Gebäude!K13&" € "&Gebäude!K14&" € "&Gebäude!K15&" €" -> € € € € € €
A8: 4. | B8: =Gebäude!B19&", "&Gebäude!B20 -> , | C8: =Gebäude!B21 -> 0 | D8: =Gebäude!A24&" "&Gebäude!A25&" "&Gebäude!A26&" "&Gebäude!A27&" "&Gebäude!A28&" "&Gebäude!A29 | E8: =Gebäude!B24&" € "&Gebäude!B25&" € "&Gebäude!B26&" € "&Gebäude!B27&" € "&Gebäude!B28&" € "&Gebäude!B29&" €" -> € € € € € € | F8: =Gebäude!C24&" € "&Gebäude!C25&" € "&Gebäude!C26&" € "&Gebäude!C27&" € "&Gebäude!C28&" € "&Gebäude!C29&" €" -> € € € € € €
A9: 5. | B9: =Gebäude!F19&", "&Gebäude!F20 -> , | C9: =Gebäude!F21 -> 0 | D9: =Gebäude!E24&" "&Gebäude!E25&" "&Gebäude!E26&" "&Gebäude!E27&" "&Gebäude!E28&" "&Gebäude!E29 | E9: =Gebäude!F24&" € "&Gebäude!F25&" € "&Gebäude!F26&" € "&Gebäude!F27&" € "&Gebäude!F28&" € "&Gebäude!F29&" €" -> € € € € € € | F9: =Gebäude!G24&" € "&Gebäude!G25&" € "&Gebäude!G26&" € "&Gebäude!G27&" € "&Gebäude!G28&" € "&Gebäude!G29&" €" -> € € € € € €
A10: 6. | B10: =Gebäude!J19&", "&Gebäude!J20 -> , | C10: =Gebäude!J21 -> 0 | D10: =Gebäude!I24&" "&Gebäude!I25&" "&Gebäude!I26&" "&Gebäude!I27&" "&Gebäude!I28&" "&Gebäude!I29 | E10: =Gebäude!J24&" € "&Gebäude!J25&" € "&Gebäude!J26&" € "&Gebäude!J27&" € "&Gebäude!J28&" € "&Gebäude!J29&" €" -> € € € € € € | F10: =Gebäude!K24&" € "&Gebäude!K25&" € "&Gebäude!K26&" € "&Gebäude!K27&" € "&Gebäude!K28&" € "&Gebäude!K29&" €" -> € € € € € €
A11: 7. | B11: =Gebäude!B33&", "&Gebäude!B34 -> , | C11: =Gebäude!B35 -> 0 | D11: =Gebäude!A38&" "&Gebäude!A39&" "&Gebäude!A40&" "&Gebäude!A41&" "&Gebäude!A42&" "&Gebäude!A43 | E11: =Gebäude!B38&" € "&Gebäude!B39&" € "&Gebäude!B40&" € "&Gebäude!B41&" € "&Gebäude!B42&" € "&Gebäude!B43&" €" -> € € € € € € | F11: =Gebäude!C38&" € "&Gebäude!C39&" € "&Gebäude!C40&" € "&Gebäude!C41&" € "&Gebäude!C42&" € "&Gebäude!C43&" €" -> € € € € € €
A12: 8. | B12: =Gebäude!F33&", "&Gebäude!F34 -> , | C12: =Gebäude!F35 -> 0 | D12: =Gebäude!E38&" "&Gebäude!E39&" "&Gebäude!E40&" "&Gebäude!E41&" "&Gebäude!E42&" "&Gebäude!E43 | E12: =Gebäude!F38&" € "&Gebäude!F39&" € "&Gebäude!F40&" € "&Gebäude!F41&" € "&Gebäude!F42&" € "&Gebäude!F43&" €" -> € € € € € € | F12: =Gebäude!G38&" € "&Gebäude!G39&" € "&Gebäude!G40&" € "&Gebäude!G41&" € "&Gebäude!G42&" € "&Gebäude!G43&" €" -> € € € € € €
A13: 9. | B13: =Gebäude!J33&", "&Gebäude!J34 -> , | C13: =Gebäude!J35 -> 0 | D13: =Gebäude!I38&" "&Gebäude!I39&" "&Gebäude!I40&" "&Gebäude!I41&" "&Gebäude!I42&" "&Gebäude!I43 | E13: =Gebäude!J38&" € "&Gebäude!J39&" € "&Gebäude!J40&" € "&Gebäude!J41&" € "&Gebäude!J42&" € "&Gebäude!J43&" €" -> € € € € € € | F13: =Gebäude!K38&" € "&Gebäude!K39&" € "&Gebäude!K40&" € "&Gebäude!K41&" € "&Gebäude!K42&" € "&Gebäude!K43&" €" -> € € € € € €
A14: 10. | B14: =Gebäude!B47&", "&Gebäude!B48 -> , | C14: =Gebäude!B49 -> 0 | D14: =Gebäude!A52&" "&Gebäude!A53&" "&Gebäude!A54&" "&Gebäude!A55&" "&Gebäude!A56&" "&Gebäude!A57 | E14: =Gebäude!B52&" € "&Gebäude!B53&" € "&Gebäude!B54&" € "&Gebäude!B55&" € "&Gebäude!B56&" € "&Gebäude!B57&" €" -> € € € € € € | F14: =Gebäude!C52&" € "&Gebäude!C53&" € "&Gebäude!C54&" € "&Gebäude!C55&" € "&Gebäude!C56&" € "&Gebäude!C57&" €" -> € € € € € €
A15: 11. | B15: =Gebäude!F47&", "&Gebäude!F48 -> , | C15: =Gebäude!F49 -> 0 | D15: =Gebäude!E52&" "&Gebäude!E53&" "&Gebäude!E54&" "&Gebäude!E55&" "&Gebäude!E56&" "&Gebäude!E57 | E15: =Gebäude!F52&" € "&Gebäude!F53&" € "&Gebäude!F54&" € "&Gebäude!F55&" € "&Gebäude!F56&" € "&Gebäude!F57&" €" -> € € € € € € | F15: =Gebäude!G52&" € "&Gebäude!G53&" € "&Gebäude!G54&" € "&Gebäude!G55&" € "&Gebäude!G56&" € "&Gebäude!G57&" €" -> € € € € € €
A16: 12. | B16: =Gebäude!J47&", "&Gebäude!J48 -> , | C16: =Gebäude!J49 -> 0 | D16: =Gebäude!I52&" "&Gebäude!I53&" "&Gebäude!I54&" "&Gebäude!I55&" "&Gebäude!I56&" "&Gebäude!I57 | E16: =Gebäude!J52&" € "&Gebäude!J53&" € "&Gebäude!J54&" € "&Gebäude!J55&" € "&Gebäude!J56&" € "&Gebäude!J57&" €" -> € € € € € € | F16: =Gebäude!K52&" € "&Gebäude!K53&" € "&Gebäude!K54&" € "&Gebäude!K55&" € "&Gebäude!K56&" € "&Gebäude!K57&" €" -> € € € € € €
A17: 13. | B17: =Gebäude!B61&", "&Gebäude!B62 -> , | C17: =Gebäude!B63 -> 0 | D17: =Gebäude!A66&" "&Gebäude!A67&" "&Gebäude!A68&" "&Gebäude!A69&" "&Gebäude!A70&" "&Gebäude!A71 | E17: =Gebäude!B66&" € "&Gebäude!B67&" € "&Gebäude!B68&" € "&Gebäude!B69&" € "&Gebäude!B70&" € "&Gebäude!B71&" €" -> € € € € € € | F17: =Gebäude!C66&" € "&Gebäude!C67&" € "&Gebäude!C68&" € "&Gebäude!C69&" € "&Gebäude!C70&" € "&Gebäude!C71&" €" -> € € € € € €
A18: 14. | B18: =Gebäude!F61&", "&Gebäude!F62 -> , | C18: =Gebäude!F63 -> 0 | D18: =Gebäude!E66&" "&Gebäude!E67&" "&Gebäude!E68&" "&Gebäude!E69&" "&Gebäude!E70&" "&Gebäude!E71 | E18: =Gebäude!F66&" € "&Gebäude!F67&" € "&Gebäude!F68&" € "&Gebäude!F69&" € "&Gebäude!F70&" € "&Gebäude!F71&" €" -> € € € € € € | F18: =Gebäude!G66&" € "&Gebäude!G67&" € "&Gebäude!G68&" € "&Gebäude!G69&" € "&Gebäude!G70&" € "&Gebäude!G71&" €" -> € € € € € €
A19: 15. | B19: =Gebäude!J61&", "&Gebäude!J62 -> , | C19: =Gebäude!J63 -> 0 | D19: =Gebäude!I66&" "&Gebäude!I67&" "&Gebäude!I68&" "&Gebäude!I69&" "&Gebäude!I70&" "&Gebäude!I71 | E19: =Gebäude!J66&" € "&Gebäude!J67&" € "&Gebäude!J68&" € "&Gebäude!J69&" € "&Gebäude!J70&" € "&Gebäude!J71&" €" -> € € € € € € | F19: =Gebäude!K66&" € "&Gebäude!K67&" € "&Gebäude!K68&" € "&Gebäude!K69&" € "&Gebäude!K70&" € "&Gebäude!K71&" €" -> € € € € € €
A20: 16. | B20: =Gebäude!B75&", "&Gebäude!B76 -> , | C20: =Gebäude!B77 -> 0 | D20: =Gebäude!A80&" "&Gebäude!A81&" "&Gebäude!A82&" "&Gebäude!A83&" "&Gebäude!A84&" "&Gebäude!A85 | E20: =Gebäude!B80&" € "&Gebäude!B81&" € "&Gebäude!B82&" € "&Gebäude!B83&" € "&Gebäude!B84&" € "&Gebäude!B85&" €" -> € € € € € € | F20: =Gebäude!C80&" € "&Gebäude!C81&" € "&Gebäude!C82&" € "&Gebäude!C83&" € "&Gebäude!C84&" € "&Gebäude!C85&" €" -> € € € € € €
A21: 17. | B21: =Gebäude!F75&", "&Gebäude!F76 -> , | C21: =Gebäude!F77 -> 0 | D21: =Gebäude!E80&" "&Gebäude!E81&" "&Gebäude!E82&" "&Gebäude!E83&" "&Gebäude!E84&" "&Gebäude!E85 | E21: =Gebäude!F80&" € "&Gebäude!F81&" € "&Gebäude!F82&" € "&Gebäude!F83&" € "&Gebäude!F84&" € "&Gebäude!F85&" €" -> € € € € € € | F21: =Gebäude!G80&" € "&Gebäude!G81&" € "&Gebäude!G82&" € "&Gebäude!G83&" € "&Gebäude!G84&" € "&Gebäude!G85&" €" -> € € € € € €
A22: 18. | B22: =Gebäude!J75&", "&Gebäude!J76 -> , | C22: =Gebäude!J77 -> 0 | D22: =Gebäude!I80&" "&Gebäude!I81&" "&Gebäude!I82&" "&Gebäude!I83&" "&Gebäude!I84&" "&Gebäude!I85 | E22: =Gebäude!J80&" € "&Gebäude!J81&" € "&Gebäude!J82&" € "&Gebäude!J83&" € "&Gebäude!J84&" € "&Gebäude!J85&" €" -> € € € € € € | F22: =Gebäude!K80&" € "&Gebäude!K81&" € "&Gebäude!K82&" € "&Gebäude!K83&" € "&Gebäude!K84&" € "&Gebäude!K85&" €" -> € € € € € €
A23: 19. | B23: =Gebäude!B89&", "&Gebäude!B90 -> , | C23: =Gebäude!B91 -> 0 | D23: =Gebäude!A94&" "&Gebäude!A95&" "&Gebäude!A96&" "&Gebäude!A97&" "&Gebäude!A98&" "&Gebäude!A99 | E23: =Gebäude!B94&" € "&Gebäude!B95&" € "&Gebäude!B96&" € "&Gebäude!B97&" € "&Gebäude!B98&" € "&Gebäude!B99&" €" -> € € € € € € | F23: =Gebäude!C94&" € "&Gebäude!C95&" € "&Gebäude!C96&" € "&Gebäude!C97&" € "&Gebäude!C98&" € "&Gebäude!C99&" €" -> € € € € € €
A24: 20. | B24: =Gebäude!F89&", "&Gebäude!F90 -> , | C24: =Gebäude!F91 -> 0 | D24: =Gebäude!E94&" "&Gebäude!E95&" "&Gebäude!E96&" "&Gebäude!E97&" "&Gebäude!E98&" "&Gebäude!E99 | E24: =Gebäude!F94&" € "&Gebäude!F95&" € "&Gebäude!F96&" € "&Gebäude!F97&" € "&Gebäude!F98&" € "&Gebäude!F99&" €" -> € € € € € € | F24: =Gebäude!G94&" € "&Gebäude!G95&" € "&Gebäude!G96&" € "&Gebäude!G97&" € "&Gebäude!G98&" € "&Gebäude!G99&" €" -> € € € € € €

Sheet Zusammenfassung
A1: =Zusammenführung!A1 -> 0
B2: Baumaßnahmen und Investitionen in und an Gebäuden > 800 €
A4: Lfd. Nr. | B4: Gebäude | C4: Abr.obj. | D4: Maßnahme | E4: Betrag | F4: Zuschüssen von Dritten
A5: 1. | B5: =Gebäude!B5&", "&Gebäude!B6 -> , | C5: =Gebäude!B7 -> 0 | D5: =Gebäude!A10&"; "&Gebäude!A11&"; "&Gebäude!A12&"; "&Gebäude!A13&"; "&Gebäude!A14&"; "&Gebäude!A15 -> ; ; ; ; ; | E5: =Gebäude!B16 -> 0 | F5: =Gebäude!C16 -> 0
A6: 2. | B6: =Gebäude!F5&", "&Gebäude!F6 -> , | C6: =Gebäude!F7 -> 0 | D6: =Gebäude!E10&"; "&Gebäude!E11&"; "&Gebäude!E12&"; "&Gebäude!E13&"; "&Gebäude!E14&"; "&Gebäude!E15 -> ; ; ; ; ; | E6: =Gebäude!F16 -> 0 | F6: =Gebäude!G16 -> 0
A7: 3. | B7: =Gebäude!J5&", "&Gebäude!J6 -> , | C7: =Gebäude!J7 -> 0 | D7: =Gebäude!I10&"; "&Gebäude!I11&"; "&Gebäude!I12&"; "&Gebäude!I13&"; "&Gebäude!I14&"; "&Gebäude!I15 -> ; ; ; ; ; | E7: =Gebäude!J16 -> 0 | F7: =Gebäude!K16 -> 0
A8: 4. | B8: =Gebäude!B19&", "&Gebäude!B20 -> , | C8: =Gebäude!B21 -> 0 | D8: =Gebäude!A24&"; "&Gebäude!A25&"; "&Gebäude!A26&"; "&Gebäude!A27&"; "&Gebäude!A28&"; "&Gebäude!A29 -> ; ; ; ; ; | E8: =Gebäude!B30 -> 0 | F8: =Gebäude!C30 -> 0
A9: 5. | B9: =Gebäude!F19&", "&Gebäude!F20 -> , | C9: =Gebäude!F21 -> 0 | D9: =Gebäude!E24&"; "&Gebäude!E25&"; "&Gebäude!E26&"; "&Gebäude!E27&"; "&Gebäude!E28&"; "&Gebäude!E29 -> ; ; ; ; ; | E9: =Gebäude!F30 -> 0 | F9: =Gebäude!G30 -> 0
A10: 6. | B10: =Gebäude!J19&", "&Gebäude!J20 -> , | C10: =Gebäude!J21 -> 0 | D10: =Gebäude!I24&"; "&Gebäude!I25&"; "&Gebäude!I26&"; "&Gebäude!I27&"; "&Gebäude!I28&"; "&Gebäude!I29 -> ; ; ; ; ; | E10: =Gebäude!J30 -> 0 | F10: =Gebäude!K30 -> 0
A11: 7. | B11: =Gebäude!B33&", "&Gebäude!B34 -> , | C11: =Gebäude!B35 -> 0 | D11: =Gebäude!A38&"; "&Gebäude!A39&"; "&Gebäude!A40&"; "&Gebäude!A41&"; "&Gebäude!A42&"; "&Gebäude!A43 -> ; ; ; ; ; | E11: =Gebäude!B44 -> 0 | F11: =Gebäude!C44 -> 0
A12: 8. | B12: =Gebäude!F33&", "&Gebäude!F34 -> , | C12: =Gebäude!F35 -> 0 | D12: =Gebäude!E38&"; "&Gebäude!E39&"; "&Gebäude!E40&"; "&Gebäude!E41&"; "&Gebäude!E42&"; "&Gebäude!E43 -> ; ; ; ; ; | E12: =Gebäude!F44 -> 0 | F12: =Gebäude!G44 -> 0
A13: 9. | B13: =Gebäude!J33&", "&Gebäude!J34 -> , | C13: =Gebäude!J35 -> 0 | D13: =Gebäude!I38&"; "&Gebäude!I39&"; "&Gebäude!I40&"; "&Gebäude!I41&"; "&Gebäude!I42&"; "&Gebäude!I43 -> ; ; ; ; ; | E13: =Gebäude!J44 -> 0 | F13: =Gebäude!K44 -> 0
A14: 10. | B14: =Gebäude!B47&", "&Gebäude!B48 -> , | C14: =Gebäude!B49 -> 0 | D14: =Gebäude!A52&"; "&Gebäude!A53&"; "&Gebäude!A54&"; "&Gebäude!A55&"; "&Gebäude!A56&"; "&Gebäude!A57 -> ; ; ; ; ; | E14: =Gebäude!B58 -> 0 | F14: =Gebäude!C58 -> 0
A15: 11. | B15: =Gebäude!F47&", "&Gebäude!F48 -> , | C15: =Gebäude!F49 -> 0 | D15: =Gebäude!E52&"; "&Gebäude!E53&"; "&Gebäude!E54&"; "&Gebäude!E55&"; "&Gebäude!E56&"; "&Gebäude!E57 -> ; ; ; ; ; | E15: =Gebäude!F58 -> 0 | F15: =Gebäude!G58 -> 0
A16: 12. | B16: =Gebäude!J47&", "&Gebäude!J48 -> , | C16: =Gebäude!J49 -> 0 | D16: =Gebäude!I52&"; "&Gebäude!I53&"; "&Gebäude!I54&"; "&Gebäude!I55&"; "&Gebäude!I56&"; "&Gebäude!I57 -> ; ; ; ; ; | E16: =Gebäude!J58 -> 0 | F16: =Gebäude!K58 -> 0
A17: 13. | B17: =Gebäude!B61&", "&Gebäude!B62 -> , | C17: =Gebäude!B63 -> 0 | D17: =Gebäude!A66&"; "&Gebäude!A67&"; "&Gebäude!A68&"; "&Gebäude!A69&"; "&Gebäude!A70&"; "&Gebäude!A71 -> ; ; ; ; ; | E17: =Gebäude!B72 -> 0 | F17: =Gebäude!C72 -> 0
A18: 14. | B18: =Gebäude!F61&", "&Gebäude!F62 -> , | C18: =Gebäude!F63 -> 0 | D18: =Gebäude!E66&"; "&Gebäude!E67&"; "&Gebäude!E68&"; "&Gebäude!E69&"; "&Gebäude!E70&"; "&Gebäude!E71 -> ; ; ; ; ; | E18: =Gebäude!F72 -> 0 | F18: =Gebäude!G72 -> 0
A19: 15. | B19: =Gebäude!J61&", "&Gebäude!J62 -> , | C19: =Gebäude!J63 -> 0 | D19: =Gebäude!I66&"; "&Gebäude!I67&"; "&Gebäude!I68&"; "&Gebäude!I69&"; "&Gebäude!I70&"; "&Gebäude!I71 -> ; ; ; ; ; | E19: =Gebäude!J72 -> 0 | F19: =Gebäude!K72 -> 0
A20: 16. | B20: =Gebäude!B75&", "&Gebäude!B76 -> , | C20: =Gebäude!B77 -> 0 | D20: =Gebäude!A80&"; "&Gebäude!A81&"; "&Gebäude!A82&"; "&Gebäude!A83&"; "&Gebäude!A84&"; "&Gebäude!A85 -> ; ; ; ; ; | E20: =Gebäude!B86 -> 0 | F20: =Gebäude!C86 -> 0
A21: 17. | B21: =Gebäude!F75&", "&Gebäude!F76 -> , | C21: =Gebäude!F77 -> 0 | D21: =Gebäude!E80&"; "&Gebäude!E81&"; "&Gebäude!E82&"; "&Gebäude!E83&"; "&Gebäude!E84&"; "&Gebäude!E85 -> ; ; ; ; ; | E21: =Gebäude!F86 -> 0 | F21: =Gebäude!G86 -> 0
A22: 18. | B22: =Gebäude!J75&", "&Gebäude!J76 -> , | C22: =Gebäude!J77 -> 0 | D22: =Gebäude!I80&"; "&Gebäude!I81&"; "&Gebäude!I82&"; "&Gebäude!I83&"; "&Gebäude!I84&"; "&Gebäude!I85 -> ; ; ; ; ; | E22: =Gebäude!J86 -> 0 | F22: =Gebäude!K86 -> 0
A23: 19. | B23: =Gebäude!B89&", "&Gebäude!B90 -> , | C23: =Gebäude!B91 -> 0 | D23: =Gebäude!A94&"; "&Gebäude!A95&"; "&Gebäude!A96&"; "&Gebäude!A97&"; "&Gebäude!A98&"; "&Gebäude!A99 -> ; ; ; ; ; | E23: =Gebäude!B100 -> 0 | F23: =Gebäude!C100 -> 0
A24: 20. | B24: =Gebäude!F89&", "&Gebäude!F90 -> , | C24: =Gebäude!F91 -> 0 | D24: =Gebäude!E94&"; "&Gebäude!E95&"; "&Gebäude!E96&"; "&Gebäude!E97&"; "&Gebäude!E98&"; "&Gebäude!E99 -> ; ; ; ; ; | E24: =Gebäude!F100 -> 0 | F24: =Gebäude!G100 -> 0
